BEGIN:VCALENDAR
VERSION:2.0
PRODID:-//Funfans - ECPv6.15.11//NONSGML v1.0//EN
CALSCALE:GREGORIAN
METHOD:PUBLISH
X-WR-CALNAME:Funfans
X-ORIGINAL-URL:https://funfans.com.br
X-WR-CALDESC:Eventos para Funfans
REFRESH-INTERVAL;VALUE=DURATION:PT1H
X-Robots-Tag:noindex
X-PUBLISHED-TTL:PT1H
BEGIN:VTIMEZONE
TZID:America/Sao_Paulo
BEGIN:STANDARD
TZOFFSETFROM:-0300
TZOFFSETTO:-0300
TZNAME:-03
DTSTART:20230101T000000
END:STANDARD
END:VTIMEZONE
BEGIN:VEVENT
DTSTART;TZID=America/Sao_Paulo:20240817T210000
DTEND;TZID=America/Sao_Paulo:20240817T230000
DTSTAMP:20260421T144241
CREATED:20240726T195738Z
LAST-MODIFIED:20240726T195738Z
UID:1526-1723928400-1723935600@funfans.com.br
SUMMARY:Benito di Paula
DESCRIPTION:Benito di Paula e Rodrigo Vellozo apresentam o show “Do Jeito Que a Vida Quer”\, no Qualistage\, no Rio de Janeiro. \nMarcada para o dia 17 de agosto\, a apresentação é um especial do EP lançado em 2023\, que dá nome ao show. \nCom a celebração do octogenário de Benito di Paula\, o músico teve toda sua carreira enaltecida por meio do projeto Benito 80: Novo Samba Sempre Novo (2022)\, que reuniu 17 artistas para interpretar o cancioneiro de Benito\, e do disco de inéditas O Infálivel Zen (2021). Agora\, Benito e  Rodrigo Vellozo\, pai e filho\, apresentam o novo EP Do Jeito Que A Vida Quer\, lançado em setembro de 2023. A dupla performa a canção que nomeia o espetáculo e homenageia Ataulfo Alves\, junto a um repertório que atravessa a carreira de Benito até este lançamento\, em um show especial no Qualistage\, no Rio de Janeiro. O evento acontece no dia 17 de agosto\, e os ingressos já estão disponíveis.  \n“O repertório será composto de sucessos da carreira do meu pai e pelo nosso último EP\, mas também irá incluir canções ligadas às nossas memórias afetivas\, à nossa história. Além de O Infalível Zen\, faixa título do álbum lançado por nós em 2021\, e O mestre-sala da minha saudade\, meu álbum-solo de 2020”\, afirma Vellozo. O show contará com banda completa acompanhando pai e filho no palco\, diferente das últimas apresentações que tinham um formato mais intimista. \nA partir de um estudo da contribuição do trabalho do artista para a música brasileira\, o mais recente projeto o homenageou por meio do EP Do Jeito Que A Vida Quer. “Este lançamento é um entendimento no qual chegamos a considerar a obra do meu pai\, Benito Di Paula\, como um dos fundamentos da construção estética do samba a partir da década de 1970. Partimos também da compreensão da grandiosidade da importância do samba\, do pagode e de seus expoentes dentro da cultura popular brasileira”\, conta Rodrigo. 
URL:https://funfans.com.br/index.php/evento/benito-di-paula/
LOCATION:Qualistage\, Av. Ayrton Senna\, 3000\, Rio de Janeiro\, Rio de Janeiro\, 22775-003\, Brasil
ATTACH;FMTTYPE=image/png:https://funfans.com.br/wp-content/uploads/2024/07/benito.png
END:VEVENT
BEGIN:VEVENT
DTSTART;TZID=America/Sao_Paulo:20240817T190000
DTEND;TZID=America/Sao_Paulo:20240817T230000
DTSTAMP:20260421T144241
CREATED:20240726T154704Z
LAST-MODIFIED:20240726T154704Z
UID:1458-1723921200-1723935600@funfans.com.br
SUMMARY:Fábio Jr no Show Bem Mais Que os Meus 20 e Poucos Anos
DESCRIPTION:Fábio Jr.\, um dos maiores nomes da música romântica brasileira\, está de volta aos palcos com o show “Bem Mais Que os Meus 20 e Poucos Anos”. O evento acontecerá na Arena Farmasi\, Rio de Janeiro\, no dia 17 de agosto de 2024. Com uma carreira que atravessa gerações\, Fábio Jr. promete uma noite inesquecível\, repleta de seus maiores sucessos como “Alma Gêmea”\, “Só Você” e “Caça e Caçador”. \nGaranta já seu ingresso através do site Ticket360 para não perder essa oportunidade única de ver um dos maiores ícones da música brasileira ao vivo.\n\nOrganizador: https://www.gl-events.com/pt-br/
URL:https://funfans.com.br/index.php/evento/fabio-jr-no-show-bem-mais-que-os-meus-20-e-poucos-anos/
LOCATION:Rio de Janeiro
ATTACH;FMTTYPE=image/png:https://funfans.com.br/wp-content/uploads/2024/07/fabio.png
END:VEVENT
BEGIN:VEVENT
DTSTART;TZID=America/Sao_Paulo:20240816T220000
DTEND;TZID=America/Sao_Paulo:20240816T233000
DTSTAMP:20260421T144241
CREATED:20240726T195950Z
LAST-MODIFIED:20240726T195950Z
UID:1529-1723845600-1723851000@funfans.com.br
SUMMARY:Celebrare
DESCRIPTION:It’s a celebration! A máquina de fazer pessoas felizes comemora 30 anos trazendo mais uma vez todo o universo dançante às nossas cabeças e corações. Em sua festa de 30 anos\, a balzaquiana Banda Celebrare faz uma revisita às canções que foram mais marcantes durante toda a sua trajetória\, garantindo lembranças maravilhosas a todos os fãs\, dos mais antigos até os mais recentes\, não deixando ninguém com a sensação de estar de fora dessa grande festa! A tradição carioca das bandas de baile está atualizada\, viva e passa muito bem.\nIdealizada para ser o melhor conjunto de festas do Rio de Janeiro (podemos dizer que rolou\, né?) e com a autoconferida missão de levar alegria ao público\, a trajetória da Banda Celebrare começou com uma parceria entre os músicos Marco Manela (vocal)\, Sylvia de Galhardo (vocal)\, Fabio Mondego (vocal)\, Lucia Perez (vocal)\, Emerson Mardhine (baixo e vocal)\, Mario Grigorowski (sax e flauta)\, Claudio Gurgel (guitarra)\, Deborah Levy (teclados) e Eduardo Lissovsky (bateria)\,  sendo que o primeiro e o último tinham o projeto de montar uma banda cover com um repertório voltado principalmente para os anos 1970\, mas que não deixasse de fora canções atuais. Três décadas depois\, cinco dos integrantes originais seguem na banda: Marco\, Sylvia\, Emerson\, Claudio e Mario. Completam o line-up os cantores Ricardo Diniz e Sabrina Gouvêa\, o tecladista Dudu Ferreira e o baterista Xande Figueiredo.\nNo começo foram apenas festas fechadas\, mas logo a Banda Celebrare passou a se apresentar nas maiores casas de shows do Rio e do Brasil – como o QUALISTAGE no dia 16 de agosto\, às 22h\, em um aniversário conjunto de velhos amigos\, já que o principal palco da cidade também chega aos 30 anos –\, totalizando mais de 2\,5 milhões de pessoas dançando em seus shows por todo o país\, sem contar apresentações no exterior\, em lugares como Punta del Este\, no Uruguai\, e Dubai\, no famoso Hotel Atlantis. \nA saída rápida das festas para os shows abertos e estúdios permitiu à banda conseguir uma estabilidade\, sua marca nesses 30 anos.\n– Acho que isso distingue a Banda Celebrare de todas outras que surgiram no segmento – diz o cantor e fundador Marco Manela. – Se alguma banda cover existe há mais de 20 anos\, ela\, com certeza\, já terá tido mais de 40 pessoas em suas formações. Aqui\, por exemplo\, guitarrista\, baixista e saxofonista são os mesmos a vida toda. \nAo longo dos anos\, o Celebrare lançou também uma belíssima coleção de discos\, de “Dance sem parar”\, de 1996\, a “Celebrare 20 anos ao vivo” (2017)\, passando por “Hava Naguila”\, dedicado ao repertório judaico. Uma playlist com esses registros anima qualquer festa até de manhã – só pode ser superada pela própria banda ao vivo\, claro. Os registros audiovisuais (aquilo que antigamente se chamava DVD) também fazem parte da coleção: “It’s raining men”\, “Macho man”\, “YMCA”\, “Saideira”\, “Sonífera ilha”\, “Rock and roll all nite” e dezenas de outros clássicos já ganharam o tratamento elétrico celebrariano\, incendiando as pistas.\nA relação com a família QUALISTAGE vem de longe: em uma das primeiras apresentações do grupo\, os integrantes conheceram o empresário Ricardo Amaral\, proprietário do então Metropolitan\, que convidou a banda para abrir o show da lenda Barry White e\, mais tarde\, da cantora Des’ree. Se hoje a Banda Celebrare é a maior de Dance & Disco Music do Brasil\, a maior casa de shows do país tem sua parte nessa história.
URL:https://funfans.com.br/index.php/evento/celebrare/
LOCATION:Qualistage\, Av. Ayrton Senna\, 3000\, Rio de Janeiro\, Rio de Janeiro\, 22775-003\, Brasil
ATTACH;FMTTYPE=image/png:https://funfans.com.br/wp-content/uploads/2024/07/celebrare.png
END:VEVENT
BEGIN:VEVENT
DTSTART;TZID=America/Sao_Paulo:20240810T210000
DTEND;TZID=America/Sao_Paulo:20240810T210000
DTSTAMP:20260421T144241
CREATED:20240726T183410Z
LAST-MODIFIED:20240726T183649Z
UID:1471-1723323600-1723323600@funfans.com.br
SUMMARY:Oswaldo Montenegro
DESCRIPTION:Comemorando 50 anos de vida artística\, Oswaldo Montenegro apresenta sua nova turnê no Rio de Janeiro\, dia 10 de agosto (sábado)\, às 21h30\, no Qualistage. \nNeste emocionante e variado espetáculo\, o público acompanha a trajetória de Montenegro\, que durante todo o show\, interage com imagens de sua vida e carreira projetadas num imenso telão. Além disso\, é possível assistir ao Menestrel tocando simultaneamente mais de um instrumento\, já que no palco\, ao vivo\, ele se reveza entre os violões de 6 e de 12 cordas e nas imagens aparece ao piano. \nDessa vez\, sucessos como “Bandolins”\, “A Lista”\, “Lua e Flor”\, “Intuição” e a recém-lançada “Lembrei de Nós”\, estarão misturados às histórias e cenas virtuais\, que revelarão as origens das canções\, expondo segredos das inspirações e aventuras do artista. \nO show conta ainda com a presença da eterna parceira de andanças\, Madalena Salles\, a flautista-irmã do Menestrel\, a quem o imenso público que o segue passou a amar como alguém que fosse da própria família. \nOutro músico brilhante\, o multi-instrumentista Alexandre Meu Rei\, também comparece à festa. A atração especial compete ao multi-instrumentista Milton Guedes\, artista que começou com Oswaldo e volta a tocar com o mestre. \nOswaldo Montenegro partiu para a estrada aos dezessete anos\, onde fixou residência. Em suas constantes viagens\, jamais parou de criar. Tornou-se um trovador contemporâneo que parece viver dentro da arte\, num turbilhão de projetos de tirar o fôlego de quem o acompanha. Nessa comemoração dos cinquenta anos de estrada sem recuar um milímetro na feitura de sua arte\, está a merecida consagração deste artista que marcou a cultura brasileira\, traçando uma trajetória original\, única e longeva\, entrando definitivamente na alma de várias gerações.
URL:https://funfans.com.br/index.php/evento/oswaldo-montenegro/
LOCATION:Qualistage\, Av. Ayrton Senna\, 3000\, Rio de Janeiro\, Rio de Janeiro\, 22775-003\, Brasil
ATTACH;FMTTYPE=image/png:https://funfans.com.br/wp-content/uploads/2024/07/oswaldo.png
END:VEVENT
BEGIN:VEVENT
DTSTART;TZID=America/Sao_Paulo:20240809T210000
DTEND;TZID=America/Sao_Paulo:20240809T210000
DTSTAMP:20260421T144241
CREATED:20240726T183222Z
LAST-MODIFIED:20240726T183713Z
UID:1468-1723237200-1723237200@funfans.com.br
SUMMARY:Zezé Di Camargo e Luciano
DESCRIPTION:Nem Zezé Di Camargo e Luciano sabem muito bem como é que 30 anos se passaram desde que “É o Amor” se consagrou de Norte a Sul do Brasil \, sendo\, de tempos em tempos\, regravada pelas vozes mais plurais da Música Brasileira. Por mais planejamento que tenham traçado nessas décadas\, parece espantoso até para eles o fato de estarem em voga de modo tão constante\, por todo esse tempo\, período que parece um grão na história da humanidade\, mas que tem absoluta relevância no quebra-cabeça da vida da gente. \nNeste contexto e por tanta referência\, a dupla mais romântica do Brasil apresenta um show totalmente novo\, dia 9 de agosto\, no Rio de Janeiro\, no Qualistage\, mas com um nome tão simbólico: “NOVOS TEMPOS”. Afinal\, lá se vão pouco mais de três décadas desde que a música que alçou os artistas ao sucesso chegou à rádio Terra de Goiânia (GO)\, em uma singela fita K-7 levada por Seu Francisco Camargo\, pai de Zezé Di Camargo e Luciano. De lá pra cá\, a canção composta por Zezé acumula mais de 70 regravações\, incluindo intérpretes que a lançaram em hebraico e russo\, somando mais de 1 bilhão de execuções no mundo\, segundo dados do ECAD. \nNo embalo deste clássico hit\, os irmãos apresentarão um espetáculo memorável ao público carioca\, passeando ainda por “modões” como “Estrada da vida”\, “Sem medo de ser feliz”\, “Me leva pra casa”\, “Menina Veneno” entre outros. \n“Eu digo que essa turnê tem o nome ideal: ‘Novos Tempos’\, porque amor resume o que levamos ao nosso público. E amar se conjuga\, sim\, em todos os tempos”\, afirma Luciano. \nPara Zezé Di Camargo\, é motivo de muita realização e gratidão reconhecer na plateia fãs que os acompanham há 32 anos. “Ver todos eles cantando todos os nossos sucessos é ter a certeza de que somos amados. Me sinto pleno em cada canto do Brasil que a gente vai”. \nCom muitas imagens em telões e efeitos de luzes\, “Novos Tempos” faz uma viagem na trajetória da dupla. Começamos com ‘Saudade Bandida’\, pois\, como dizem\, faz parte da playlist dos fãs-raiz. Teremos aquelas canções que não necessariamente foram trabalhadas nas rádios\, de 1991 para cá\, mas que o público gosta\, sempre cantou e pede nos shows’\, conta Luciano. \nJá Zezé Di Camargo\, que assina o repertório com o produtor musical Roger Dias\, destaca que as músicas ganharam novos arranjos de sucessos que marcaram vidas e histórias. “O público vai contemplar um pedacinho de cada época da dupla. Agora em novos tempos”. \nA playlist também contará com “Dou a vida por um beijo”\, “Pra mudar minha vida”\, “Tarde demais”\, “Uma hora e meia” entre outras que ganham identidade única nas vozes de Zezé Di Camargo e Luciano
URL:https://funfans.com.br/index.php/evento/zeze-di-camargo-e-luciano/
LOCATION:Qualistage\, Av. Ayrton Senna\, 3000\, Rio de Janeiro\, Rio de Janeiro\, 22775-003\, Brasil
ATTACH;FMTTYPE=image/png:https://funfans.com.br/wp-content/uploads/2024/07/Screenshot-3.png
END:VEVENT
BEGIN:VEVENT
DTSTART;TZID=America/Sao_Paulo:20240803T220000
DTEND;TZID=America/Sao_Paulo:20240803T220000
DTSTAMP:20260421T144241
CREATED:20240726T183050Z
LAST-MODIFIED:20240726T183727Z
UID:1465-1722722400-1722722400@funfans.com.br
SUMMARY:Ferrugem
DESCRIPTION:“Uma década de estrada\, trabalho e muita música”. É como Ferrugem se recorda de seus dez anos de carreira\, marco que ele festeja em 2024.  \nJheison Failde de Souza\, como o artista foi batizado ao nascer\, celebrará toda a sua caminhada na apresentação da capital paulista. Cobrindo inclusive seus primórdios de sua história artística\, como os primeiros shows em rodas de pagode em Campo Grande\, bairro fluminense onde cresceu. \nHit orgânico nacional\, a faixa “Infância”\, do cantor Reinaldo tendo Ferrugem como voz convidada\, é considerada por ele sua estreia profissional. “Considero minha participação no DVD do Reinaldo como o marco inicial da minha carreira\, profissionalmente falando. Antes disso eu já respirava música\, tocava tantã e arriscava algumas composições desde os trezes anos de idade… Mas o sucesso desse dueto\, lá em 2014\, é o que considero o início de tudo”\, explica. \nTRAJETÓRIA DE SUCESSO \nA assinatura com uma gravadora\, a Warner Music\, não demorou. Em 2015\, lançou seu disco de estreia “Climatizar”\, contendo duetos com Alcione e Anitta. O single-título do álbum é um de seus grandes sucessos e\, até hoje\, é carta marcada no repertório do artista. Seu segundo registro de estúdio\, “Seja o que deus quiser” (2017)\, rendeu mais êxitos\, como “O som do tambor” e “Minha Namorada”. \nMas o grande estouro nacional veio no ano seguinte\, em 2018\, como o audiovisual ao vivo “Prazer\, eu sou Ferrugem”\, que comemorou a caminhada do músico até ali e trouxe mais hits que fariam parte do seu futuro para sempre. “Pirata e Tesouro”\, “Pra Você Acreditar”\, “É natural” e “Sinto sua falta” são faixas indispensáveis do cantor. \nO projeto seguinte foi o LP ao vivo “Chão de Estrelas” (2019)\, que rendeu o hit “Até que enfim”. O sucesso continuou\, apoiado nos álbuns “Ferrugem em Casa” e “Abre Alas”\, de 2020\, “Ferrugem em Casa 2” (2021) e “Interessante” (2023); e singles como “Me Perdoa”\, “Interessante”\, “Tristinha”\, “Eu não sou de me entregar” e “Atrasadinha”. \nA relação longeva e genuína com o público\, assim como sua voz potente e personalidade carismática\, fizeram do carioca um dos maiores fenômenos da música brasileira. Ele contabiliza indicações a diversos prêmios – como o Grammy Latino\, o Prêmio Multishow e o Troféu Melhores do Ano (da TV Globo) -\, além de lotar apresentações no país. Além disso\, o artista tem lotado apresentações país e mundo afora\, no decorrer dos anos. \nSua primeira turnê para os Estados Unidos\, por exemplo\, ocorreu em 2019\, com retorno muito bem-sucedido em 2023. Seus primeiros shows na Europa\, passando por Portugal e Irlanda\, também aconteceram esse ano. Ele também chegou a cantar para mais de 10 mil pessoas\, em shows lotados em Angola. \nÉ dos cantores masculinos de pagode e samba mais ouvidos no Spotify Brasil\, com mais de 7.4 milhões de ouvintes mensais. Ferrugem ainda possui a impressionante marca de mais de 3 bilhões de visualizações em seus vídeos no Youtube\, além de mais de 5\,5 milhões de inscritos em seu canal. \nEm 2022\, apresentou-se no Rock in Rio\, o maior festival de música e entretenimento do mundo. Embaixador do Palco Favela\, o cantor foi responsável pelo primeiro grande show de pagode da história do evento\, em uma das performances de mais destaque da edição. \nAlém disso\, representou o clube brasileiro Fluminense (seu time do coração) no show de abertura da final da Libertadores\, em 2023\, para um Maracanã lotado e cerca de 15 milhões de espectadores apenas no Brasil.
URL:https://funfans.com.br/index.php/evento/ferrugem/
LOCATION:Qualistage\, Av. Ayrton Senna\, 3000\, Rio de Janeiro\, Rio de Janeiro\, 22775-003\, Brasil
ATTACH;FMTTYPE=image/png:https://funfans.com.br/wp-content/uploads/2024/07/Screenshot-2.png
END:VEVENT
BEGIN:VEVENT
DTSTART;TZID=America/Sao_Paulo:20240727T220000
DTEND;TZID=America/Sao_Paulo:20240727T233000
DTSTAMP:20260421T144241
CREATED:20240726T182217Z
LAST-MODIFIED:20240726T182217Z
UID:1461-1722117600-1722123000@funfans.com.br
SUMMARY:Xande de Pilares
DESCRIPTION:Xande de Pilares dá início a uma emocionante jornada em homenagem ao ícone da música brasileira\, Caetano Veloso com a turnê “Xande Canta Caetano”. Reconhecido como um dos eventos mais aguardados pelo público\, o show começa a rodar pelo Brasil a partir de junho. O álbum homônimo já se destaca\, conquistando os prêmios Samba e Pagode do Ano pela regravação da música “Muito Romântico”\, além de Álbum do Ano\, no prestigiado Prêmio Multishow e foi também vencedor do Prêmio Band Inspira Rio 2023 na categoria música. O projeto\, nascido de encontros marcantes na casa de Paula Lavigne durante a pandemia\, recebeu a benção de Caetano para dedicar um álbum inteiro às suas composições. A turnê\, que terá direção musical de Pretinho da Serrinha\, começa em Belo Horizonte e na sequência irá percorrer as cidades de Salvador\, São Paulo\, Rio de Janeiro\, Brasília e Vitória. No álbum\, ao longo de dez faixas\, Xande mergulha em sua história e memórias\, revisitando clássicos como “Gente” e “O Amor”\, “Qualquer Coisa”\, “Tigresa”\, entre outros. A liberdade criativa proporcionada pelo projeto resultou em interpretações que transcendem gêneros\, multiplicando a beleza das composições de Caetano Veloso na voz única de Xande. Esta turnê promete ser uma celebração única da música brasileira\, unindo dois talentos excepcionais em um tributo marcante\, com shows inesquecíveis pelo Brasil.
URL:https://funfans.com.br/index.php/evento/xande-de-pilares/
LOCATION:Qualistage\, Av. Ayrton Senna\, 3000\, Rio de Janeiro\, Rio de Janeiro\, 22775-003\, Brasil
ATTACH;FMTTYPE=image/png:https://funfans.com.br/wp-content/uploads/2024/07/xande.png
END:VEVENT
END:VCALENDAR