BEGIN:VCALENDAR
VERSION:2.0
PRODID:-//Funfans - ECPv6.15.11//NONSGML v1.0//EN
CALSCALE:GREGORIAN
METHOD:PUBLISH
X-ORIGINAL-URL:https://funfans.com.br
X-WR-CALDESC:Eventos para Funfans
REFRESH-INTERVAL;VALUE=DURATION:PT1H
X-Robots-Tag:noindex
X-PUBLISHED-TTL:PT1H
BEGIN:VTIMEZONE
TZID:America/Sao_Paulo
BEGIN:STANDARD
TZOFFSETFROM:-0300
TZOFFSETTO:-0300
TZNAME:-03
DTSTART:20250101T000000
END:STANDARD
END:VTIMEZONE
BEGIN:VEVENT
DTSTART;TZID=America/Sao_Paulo:20260117T190000
DTEND;TZID=America/Sao_Paulo:20260117T213000
DTSTAMP:20260421T172524
CREATED:20251205T194026Z
LAST-MODIFIED:20251205T194026Z
UID:2038-1768676400-1768685400@funfans.com.br
SUMMARY:Maria Bethânia
DESCRIPTION:
URL:https://funfans.com.br/index.php/evento/maria-bethania/
LOCATION:Vivo Rio\, Av. Infante Dom Henrique\, 85\, Rio de Janeiro\, Rio de Janeiro\, 20021-150\, Brazil
ATTACH;FMTTYPE=image/jpeg:https://funfans.com.br/wp-content/uploads/2025/12/banner-sem-desenho-81-1.jpg
END:VEVENT
BEGIN:VEVENT
DTSTART;TZID=America/Sao_Paulo:20260117T220000
DTEND;TZID=America/Sao_Paulo:20260117T233000
DTSTAMP:20260421T172525
CREATED:20251205T180508Z
LAST-MODIFIED:20251205T180731Z
UID:2017-1768687200-1768692600@funfans.com.br
SUMMARY:Noites de Verão: DelaCruz
DESCRIPTION:O projeto “Noites de Verão 2025/26”\, realizado por Leandro Dany Entretenimento\, promete noites inesquecíveis no alto do Morro da Urca\, unindo música\, paisagem e experiências únicas no cartão-postal mais famoso do Rio de Janeiro. A programação começa em grande estilo no dia 06 de dezembro (sábado)\, com o rapper BK’\, um dos nomes mais potentes do hip hop nacional\, e o comando das pistas por DJ Saddam. O ingresso para esta noite\, que inclui o acesso pelo bondinho até o Morro da Urca\, custa R$ 240\,00 (meia-entrada). Na semana seguinte\, 13 de dezembro (sábado)\, o palco recebe duas lendas do rock brasileiro: CPM 22\, celebrando 30 anos de carreira\, e Raimundos\, prometendo uma noite intensa\, repleta de clássicos e muita atitude. O ingresso\, com direito à subida de bondinho\, sai por R$ 160\,00 (meia-entrada). Encerrando o mês em clima de festa\, 20 de dezembro (sábado) será dia de celebrar o pop rock com Blitz e Biquini Cavadão\, em um show vibrante e cheio de hits que marcaram gerações. Os ingressos para esta noite custam R$ 160\,00 (meia-entrada)\, também com o acesso incluído ao bondinho. \n\nJá 2026 começa com tudo\, no dia 10 (sábado)\, o Morro recebe Ferrugem\, Banda Toda Forma de Amor e DJ Tartaruga.  \n\n\n\nNo sábado seguinte (17/01)\, quem pega o bondinho é DelaCruz. \n\n\n\nInovando\, na última semana de janeiro\, teremos shows sexta e sábado (30 e 31/01). Na sexta é a vez de Pablo\, enquanto o dia seguinte recebe Lagum e convidados. \n\n\n\nFechando a programação do Noites de Verão em grande estilo\, os Paralamas do Sucesso sobem ao palco no dia 07 de fevereiro (sábado). \n\n\n\nA abertura dos portões será sempre às 22h\, com estrutura completa\, gastronomia\, música\, painel de led externo\, conforto e um visual que é puro Rio de Janeiro. \n\n\n\nServiço — Noites de Verão 2025/26 \n\n\n\n Local: Morro da Urca — Rio de Janeiro \n\n\n\n Datas e valores: \n\n\n\nDEZEMBRO 2025 \n\n\n\n* 06/12 – BK’ + DJ Saddam — R$ 240\,00 (meia-entrada) — ingresso + bondinho \n\n\n\n* 13/12 – CPM 22 + Raimundos — R$ 160\,00 (meia-entrada) — ingresso + bondinho \n\n\n\n* 20/12 – Blitz + Biquini Cavadão — R$ 160\,00 (meia-entrada) — ingresso + bondinho \n\n\n\nJANEIRO 2026 \n\n\n\n*10/01 – Ferrugem \, Banda Toda Forma de Amor e Dj Tartaruga \n\n\n\n*17/01 – DelaCruz \n\n\n\n*30/01 – Pablo \n\n\n\n*31/01 – Lagum e Convidados \n\n\n\nFEVEREIRO 2026 \n\n\n\n*07/02 –  encerrando Noites de Verão \n\n\n\nOs Paralamas do Sucesso \n\n\n\n Abertura: 22h \n\n\n\n Classificação: 18 anos \n\n\n\n Realização: Leandro Dany Entretenimento \n\n\n\n*MEIA-ENTRADA: menores de 21 anos\, professores da rede pública\, idosos\, estudantes\, pessoas com deficiência (PCDs) e todos que levarem 1kg de alimento não perecível. \n\n\n\nAtenção: os valores dos ingressos estão sujeitos a alteração a qualquer momento\, em decorrência da virada de lotes. \n\n 
URL:https://funfans.com.br/index.php/evento/noites-de-verao-delacruz/
LOCATION:Morro da Urca\, Urca\, Rio de Janeiro\, Rio de Janeiro\, 22290-270
ATTACH;FMTTYPE=image/jpeg:https://funfans.com.br/wp-content/uploads/2025/12/17.jpg
END:VEVENT
BEGIN:VEVENT
DTSTART;TZID=America/Sao_Paulo:20260131T233000
DTEND;TZID=America/Sao_Paulo:20260131T233000
DTSTAMP:20260421T172525
CREATED:20251205T180615Z
LAST-MODIFIED:20251205T180715Z
UID:2020-1769902200-1769902200@funfans.com.br
SUMMARY:“Noites de Verão: Lagum e Convidados
DESCRIPTION:O projeto “Noites de Verão 2025/26”\, realizado por Leandro Dany Entretenimento\, promete noites inesquecíveis no alto do Morro da Urca\, unindo música\, paisagem e experiências únicas no cartão-postal mais famoso do Rio de Janeiro. A programação começa em grande estilo no dia 06 de dezembro (sábado)\, com o rapper BK’\, um dos nomes mais potentes do hip hop nacional\, e o comando das pistas por DJ Saddam. O ingresso para esta noite\, que inclui o acesso pelo bondinho até o Morro da Urca\, custa R$ 240\,00 (meia-entrada). Na semana seguinte\, 13 de dezembro (sábado)\, o palco recebe duas lendas do rock brasileiro: CPM 22\, celebrando 30 anos de carreira\, e Raimundos\, prometendo uma noite intensa\, repleta de clássicos e muita atitude. O ingresso\, com direito à subida de bondinho\, sai por R$ 160\,00 (meia-entrada). Encerrando o mês em clima de festa\, 20 de dezembro (sábado) será dia de celebrar o pop rock com Blitz e Biquini Cavadão\, em um show vibrante e cheio de hits que marcaram gerações. Os ingressos para esta noite custam R$ 160\,00 (meia-entrada)\, também com o acesso incluído ao bondinho. \n\nJá 2026 começa com tudo\, no dia 10 (sábado)\, o Morro recebe Ferrugem\, Banda Toda Forma de Amor e DJ Tartaruga.  \n\n\n\nNo sábado seguinte (17/01)\, quem pega o bondinho é DelaCruz. \n\n\n\nInovando\, na última semana de janeiro\, teremos shows sexta e sábado (30 e 31/01). Na sexta é a vez de Pablo\, enquanto o dia seguinte recebe Lagum e convidados. \n\n\n\nFechando a programação do Noites de Verão em grande estilo\, os Paralamas do Sucesso sobem ao palco no dia 07 de fevereiro (sábado). \n\n\n\nA abertura dos portões será sempre às 22h\, com estrutura completa\, gastronomia\, música\, painel de led externo\, conforto e um visual que é puro Rio de Janeiro. \n\n\n\nServiço — Noites de Verão 2025/26 \n\n\n\n Local: Morro da Urca — Rio de Janeiro \n\n\n\n Datas e valores: \n\n\n\nDEZEMBRO 2025 \n\n\n\n* 06/12 – BK’ + DJ Saddam — R$ 240\,00 (meia-entrada) — ingresso + bondinho \n\n\n\n* 13/12 – CPM 22 + Raimundos — R$ 160\,00 (meia-entrada) — ingresso + bondinho \n\n\n\n* 20/12 – Blitz + Biquini Cavadão — R$ 160\,00 (meia-entrada) — ingresso + bondinho \n\n\n\nJANEIRO 2026 \n\n\n\n*10/01 – Ferrugem \, Banda Toda Forma de Amor e Dj Tartaruga \n\n\n\n*17/01 – DelaCruz \n\n\n\n*30/01 – Pablo \n\n\n\n*31/01 – Lagum e Convidados \n\n\n\nFEVEREIRO 2026 \n\n\n\n*07/02 –  encerrando Noites de Verão \n\n\n\nOs Paralamas do Sucesso \n\n\n\n Abertura: 22h \n\n\n\n Classificação: 18 anos \n\n\n\n Realização: Leandro Dany Entretenimento \n\n\n\n*MEIA-ENTRADA: menores de 21 anos\, professores da rede pública\, idosos\, estudantes\, pessoas com deficiência (PCDs) e todos que levarem 1kg de alimento não perecível. \n\n\n\nAtenção: os valores dos ingressos estão sujeitos a alteração a qualquer momento\, em decorrência da virada de lotes. \n\n 
URL:https://funfans.com.br/index.php/evento/noites-de-verao-lagum-e-convidados/
LOCATION:Morro da Urca\, Urca\, Rio de Janeiro\, Rio de Janeiro\, 22290-270
ATTACH;FMTTYPE=image/jpeg:https://funfans.com.br/wp-content/uploads/2025/12/unnamed-file.jpg
END:VEVENT
BEGIN:VEVENT
DTSTART;TZID=America/Sao_Paulo:20260306T220000
DTEND;TZID=America/Sao_Paulo:20260306T233000
DTSTAMP:20260421T172525
CREATED:20260227T153507Z
LAST-MODIFIED:20260227T153507Z
UID:2048-1772834400-1772839800@funfans.com.br
SUMMARY:BRYAN ADAMS
DESCRIPTION:Com mais de quatro décadas de carreira e sucessos que marcaram gerações\, Bryan Adams retorna ao Brasil em março de 2026 para quatro apresentações da Roll With The Punches Tour. Com produção da Mercury Concerts\, o show será no dia 6 de março (sexta-feira) no Qualistage Rio de Janeiro. \nSerá uma oportunidade incrível para sentir\, ao vivo\, a energia e o talento de um dos maiores ícones do rock – um show imprescindível para todas as gerações. Reconhecido mundialmente por sua voz inconfundível e por hits como “(Everything I Do) I Do It For You”\, “Heaven” e “Summer of ’69”\, o cantor e compositor canadense alcançou o topo das paradas em mais de 40 países\, nas décadas de 80 e 90; e recebeu inúmeros prêmios\, incluindo um Grammy\, American Music Awards\, além de três indicações ao Oscar e cinco ao Globo de Ouro. Adams també tem o título de Companion of the Order of Canada\, a mais alta honraria para um civil nesse país. \nEm 2018\, Bryan Adams inovou mais uma vez\, mergulhando no teatro musical\, coescrevendo as canções de “Pretty Woman: The Musical”\, e lançou seu 16º álbum de estúdio\, So Happy It Hurts\, em 2022. No ano seguinte\, no álbum duplo Classics\, revisitou seus maiores sucessos em novas versões e lançou uma box set com três álbuns gravados durante a temporada no lendário Royal Albert Hall\, em Londres. Em agosto de 2024\, Bryan lançou a Bad Records\, seu selo independente\, com um single em edição limitada de 7”\, além de um single digital e um videoclipe das canções “Rock And Roll Hell” e “War Machine”.
URL:https://funfans.com.br/index.php/evento/bryan-adams/
LOCATION:Qualistage\, Av. Ayrton Senna\, 3000\, Rio de Janeiro\, Rio de Janeiro\, 22775-003\, Brasil
ATTACH;FMTTYPE=image/jpeg:https://funfans.com.br/wp-content/uploads/2026/02/eventos.jpg
END:VEVENT
END:VCALENDAR