BEGIN:VCALENDAR
VERSION:2.0
PRODID:-//Funfans - ECPv6.15.11//NONSGML v1.0//EN
CALSCALE:GREGORIAN
METHOD:PUBLISH
X-WR-CALNAME:Funfans
X-ORIGINAL-URL:https://funfans.com.br
X-WR-CALDESC:Eventos para Funfans
REFRESH-INTERVAL;VALUE=DURATION:PT1H
X-Robots-Tag:noindex
X-PUBLISHED-TTL:PT1H
BEGIN:VTIMEZONE
TZID:America/Sao_Paulo
BEGIN:STANDARD
TZOFFSETFROM:-0300
TZOFFSETTO:-0300
TZNAME:-03
DTSTART:20250101T000000
END:STANDARD
END:VTIMEZONE
BEGIN:VEVENT
DTSTART;TZID=America/Sao_Paulo:20260109T190000
DTEND;TZID=America/Sao_Paulo:20260109T213000
DTSTAMP:20260421T141739
CREATED:20251205T193901Z
LAST-MODIFIED:20251205T193901Z
UID:2035-1767985200-1767994200@funfans.com.br
SUMMARY:Roupa Nova
DESCRIPTION:
URL:https://funfans.com.br/index.php/evento/roupa-nova/
LOCATION:Vivo Rio\, Av. Infante Dom Henrique\, 85\, Rio de Janeiro\, Rio de Janeiro\, 20021-150\, Brazil
ATTACH;FMTTYPE=image/jpeg:https://funfans.com.br/wp-content/uploads/2025/12/banner-sem-desenho-81.jpg
END:VEVENT
END:VCALENDAR