BEGIN:VCALENDAR
VERSION:2.0
PRODID:-//Funfans - ECPv6.15.11//NONSGML v1.0//EN
CALSCALE:GREGORIAN
METHOD:PUBLISH
X-ORIGINAL-URL:https://funfans.com.br
X-WR-CALDESC:Eventos para Funfans
REFRESH-INTERVAL;VALUE=DURATION:PT1H
X-Robots-Tag:noindex
X-PUBLISHED-TTL:PT1H
BEGIN:VTIMEZONE
TZID:America/Sao_Paulo
BEGIN:STANDARD
TZOFFSETFROM:-0300
TZOFFSETTO:-0300
TZNAME:-03
DTSTART:20240101T000000
END:STANDARD
END:VTIMEZONE
BEGIN:VEVENT
DTSTART;TZID=America/Sao_Paulo:20251221T160000
DTEND;TZID=America/Sao_Paulo:20251221T200000
DTSTAMP:20260421T142235
CREATED:20251205T193751Z
LAST-MODIFIED:20251205T193751Z
UID:2032-1766332800-1766347200@funfans.com.br
SUMMARY:Batuke do Pretinho
DESCRIPTION:Participação Especial – Xande de Pilares
URL:https://funfans.com.br/index.php/evento/batuke-do-pretinho/
LOCATION:Vivo Rio\, Av. Infante Dom Henrique\, 85\, Rio de Janeiro\, Rio de Janeiro\, 20021-150\, Brazil
ATTACH;FMTTYPE=image/jpeg:https://funfans.com.br/wp-content/uploads/2025/12/banner-sem-desenho-101.jpg
END:VEVENT
END:VCALENDAR