BEGIN:VCALENDAR
VERSION:2.0
PRODID:-//Funfans - ECPv6.15.11//NONSGML v1.0//EN
CALSCALE:GREGORIAN
METHOD:PUBLISH
X-WR-CALNAME:Funfans
X-ORIGINAL-URL:https://funfans.com.br
X-WR-CALDESC:Eventos para Funfans
REFRESH-INTERVAL;VALUE=DURATION:PT1H
X-Robots-Tag:noindex
X-PUBLISHED-TTL:PT1H
BEGIN:VTIMEZONE
TZID:America/Sao_Paulo
BEGIN:STANDARD
TZOFFSETFROM:-0300
TZOFFSETTO:-0300
TZNAME:-03
DTSTART:20230101T000000
END:STANDARD
END:VTIMEZONE
BEGIN:VEVENT
DTSTART;TZID=America/Sao_Paulo:20241208T173000
DTEND;TZID=America/Sao_Paulo:20241208T193000
DTSTAMP:20260422T083504
CREATED:20240726T184727Z
LAST-MODIFIED:20240726T184804Z
UID:1475-1733679000-1733686200@funfans.com.br
SUMMARY:Enaldinho
DESCRIPTION:Enaldinho se consolidou como um dos maiores fenômenos do entretenimento brasileiro. Com uma carreira marcada por vídeos populares no YouTube\, onde compartilha desafios e vlogs\, ele conquistou milhões de seguidores. \nSeu talento não se limita às telas; Enaldinho também brilhou nos palcos com seu show\, “Enaldinho e o Mistério do Circo”\, com uma narrativa envolvente e interativa\, leva o público a uma jornada cheia de aventuras e desafios\, conquistando o coração de crianças\, adolescentes e adultos. \nEsse espetáculo foi um grande sucesso de público\, reunindo mais de 20 mil pessoas em uma única apresentação\, todas ansiosas para assistir sua performance ao vivo. A turnê “O Mistério do Circo” percorreu mais de 50 cidades\, atraindo mais de 50 mil espectadores. Após todo esse sucesso\, Enaldinho está em preparação para uma nova turnê com um espetáculo ainda mais grandioso. \nCom o intuito de elevar ainda mais o nível de suas produções\, Enaldinho está preparando um show que mistura música\, teatro e interatividade\,trazendo uma experiência inesquecível para todas as idades.
URL:https://funfans.com.br/index.php/evento/enaldinho/
LOCATION:Qualistage\, Av. Ayrton Senna\, 3000\, Rio de Janeiro\, Rio de Janeiro\, 22775-003\, Brasil
ATTACH;FMTTYPE=image/png:https://funfans.com.br/wp-content/uploads/2024/07/enaldinho.png
END:VEVENT
END:VCALENDAR