BEGIN:VCALENDAR
VERSION:2.0
PRODID:-//Funfans - ECPv6.15.11//NONSGML v1.0//EN
CALSCALE:GREGORIAN
METHOD:PUBLISH
X-WR-CALNAME:Funfans
X-ORIGINAL-URL:https://funfans.com.br
X-WR-CALDESC:Eventos para Funfans
REFRESH-INTERVAL;VALUE=DURATION:PT1H
X-Robots-Tag:noindex
X-PUBLISHED-TTL:PT1H
BEGIN:VTIMEZONE
TZID:America/Sao_Paulo
BEGIN:STANDARD
TZOFFSETFROM:-0300
TZOFFSETTO:-0300
TZNAME:-03
DTSTART:20230101T000000
END:STANDARD
END:VTIMEZONE
BEGIN:VEVENT
DTSTART;TZID=America/Sao_Paulo:20241031T080000
DTEND;TZID=America/Sao_Paulo:20241031T170000
DTSTAMP:20260422T100443
CREATED:20240726T193907Z
LAST-MODIFIED:20240726T193907Z
UID:1496-1730361600-1730394000@funfans.com.br
SUMMARY:UB40 FEAT ALI CAMPBELL – ENDLESS SUMMER TOUR BRASIL 2024
DESCRIPTION:UB40 FEAT ALI CAMPBELL – ENDLESS SUMMER TOUR BRASIL 2024 \n“Tocamos os sucessos\, porque é isso que as pessoas querem ouvir” Ali Campbell \nO cantor e guitarrista Ali Campbell a voz que levou o UB40 aos 70 milhões de discos vendidos\, múltiplos hits e sucesso global\, está trazendo novamente ao Brasil a doce energia do reggae. \nA Endless Summer Tour Brasil inicia no Rio de Janeiro a série de shows que percorrerá 6 capitais. \nO UB40 trouxe de Birmingham\, Reino Unido\, seu toque de pop rock raiz ao reggae jamaicano\, influenciou gerações de artistas e inspirou a história de milhares de pessoas. Sua música é cativante e suas apresentações memoráveis.  \nNeste show os hits “Red Red Wine”\, “Rat In Mi Kitchen”\, “Can’t Help Falling In Love”\, “I Got You Baby”\, “Sing Our Own Song”\, e tantos outros fazem parte da longa lista de sucessos da banda. \nEsperamos todos vocês ! \n“A música reggae é um antídoto perfeito para esses tempos sombrios. É uma música que nos conecta. Você pode não mudar nada cantando sobre isso\, mas pode pelo menos viajar pelo mundo e tentar unir as pessoas” \n“Nos sentimos realmente abençoados por termos um público tão variado em nossos shows !” \nAli Campbell
URL:https://funfans.com.br/index.php/evento/ub40-feat-ali-campbell-endless-summer-tour-brasil-2024/
LOCATION:Qualistage\, Av. Ayrton Senna\, 3000\, Rio de Janeiro\, Rio de Janeiro\, 22775-003\, Brasil
ATTACH;FMTTYPE=image/png:https://funfans.com.br/wp-content/uploads/2024/07/ub40.png
END:VEVENT
END:VCALENDAR