BEGIN:VCALENDAR
VERSION:2.0
PRODID:-//Funfans - ECPv6.15.11//NONSGML v1.0//EN
CALSCALE:GREGORIAN
METHOD:PUBLISH
X-ORIGINAL-URL:https://funfans.com.br
X-WR-CALDESC:Eventos para Funfans
REFRESH-INTERVAL;VALUE=DURATION:PT1H
X-Robots-Tag:noindex
X-PUBLISHED-TTL:PT1H
BEGIN:VTIMEZONE
TZID:America/Sao_Paulo
BEGIN:STANDARD
TZOFFSETFROM:-0300
TZOFFSETTO:-0300
TZNAME:-03
DTSTART:20230101T000000
END:STANDARD
END:VTIMEZONE
BEGIN:VEVENT
DTSTART;TZID=America/Sao_Paulo:20241010T140000
DTEND;TZID=America/Sao_Paulo:20241013T230000
DTSTAMP:20260422T114217
CREATED:20240823T145255Z
LAST-MODIFIED:20240823T145255Z
UID:1808-1728568800-1728860400@funfans.com.br
SUMMARY:Mondial De La Biere
DESCRIPTION:🍻 Mondial de la Bière Rio 2024: O Maior Festival de Cervejas Artesanais da América está de Volta! \nDesde 1994\, o Mondial de la Bière tem sido o principal destino para os amantes de cervejas artesanais e entretenimento\, começando em Montreal e ganhando edições anuais no Brasil desde 2013. E em 2024\, o festival chega à sua 11ª edição no Rio de Janeiro\, prometendo ser mais épico do que nunca! \nCom mais de 60 mil visitantes apaixonados\, 260 cervejarias participantes e 1500 rótulos de cervejas artesanais\, o Mondial é o lugar perfeito para quem quer se deliciar com os melhores sabores do mundo cervejeiro. Além das cervejas\, o evento conta com mais de 30 opções gastronômicas para todos os gostos\, mixologia com drinks incríveis\, área craft\, 40 horas de shows e muitas ativações que garantem a experiência completa de um festival! 🎶🍴 \n🌟 Categorias de Ingressos: \n✦ Experiência Colecionável (Lote Promocional): Garanta seu ingresso e leve para casa 01 copo exclusivo da edição\, 01 tirante porta copo especial da pré-venda e um cartão cashless personalizado. Comece o consumo no evento sem precisar comprar o cartão por R$ 5\,00! Atenção: esse lote é limitado e a retirada dos itens é feita na entrada do festival. \n✦ Cervejeiro Solidário: Aproveite o ingresso com valor reduzido\, basta doar 1kg de alimento não perecível na entrada do evento. Faça o bem enquanto curte o festival! 💚 \n✦ Passaporte: Quer aproveitar todos os dias do festival? Esse ingresso te dá acesso aos 4 dias de evento\, com um valor especial! 🎟️ \n📅 Serviço: \n📆 Data: 10 a 13 de outubro de 2024\n📍 Local: Pier Mauá – Armazéns 3\, 4 e 5\n📍 Endereço: Avenida Rodrigues Alves\, 10 – Praça Mauá – Rio de Janeiro – RJ \n⏰ Horários: \n\n10/10\, Quinta-feira: 15h às 00h\n11/10\, Sexta-feira: 14h às 00h\n12/10\, Sábado: 13h às 00h\n13/10\, Domingo: 13h às 23h\n\n🕒 Importante: A compra e recarga do cartão cashless Mondial encerra 30 minutos antes do término do evento em cada dia. A entrada de visitantes será permitida até uma hora antes do encerramento do evento. \n🎟️ Meia-entrada: Não esqueça de levar o comprovante do benefício para garantir sua meia-entrada! \n📸 Imagem: Ao finalizar a compra\, você autoriza o uso de sua imagem para registro\, documentação e divulgação do festival. \n🔞 Classificação etária: 18 anos. A entrada e permanência de menores de 18 anos é permitida somente com o preenchimento e assinatura do termo de responsabilidade pelo responsável legal na entrada do evento. Menores de 14 anos não pagam. \nPara mais detalhes\, consulte o regulamento completo e os horários no FAQ. \n🍻 Esperamos você no Mondial de la Bière Rio 2024 para brindar com a gente! 🍻
URL:https://funfans.com.br/index.php/evento/mondial-de-la-biere/
LOCATION:Pier Mauá\, Av. Rodrigues Alves\, 10 - Praça Mauá\, Rio de Janeiro\, Rio de Janeiro\, 20081-250\, Brasil
END:VEVENT
END:VCALENDAR