BEGIN:VCALENDAR
VERSION:2.0
PRODID:-//Funfans - ECPv6.15.11//NONSGML v1.0//EN
CALSCALE:GREGORIAN
METHOD:PUBLISH
X-WR-CALNAME:Funfans
X-ORIGINAL-URL:https://funfans.com.br
X-WR-CALDESC:Eventos para Funfans
REFRESH-INTERVAL;VALUE=DURATION:PT1H
X-Robots-Tag:noindex
X-PUBLISHED-TTL:PT1H
BEGIN:VTIMEZONE
TZID:America/Sao_Paulo
BEGIN:STANDARD
TZOFFSETFROM:-0300
TZOFFSETTO:-0300
TZNAME:-03
DTSTART:20230101T000000
END:STANDARD
END:VTIMEZONE
BEGIN:VEVENT
DTSTART;TZID=America/Sao_Paulo:20241005T210000
DTEND;TZID=America/Sao_Paulo:20241005T223000
DTSTAMP:20260422T113953
CREATED:20240726T194126Z
LAST-MODIFIED:20240726T194126Z
UID:1502-1728162000-1728167400@funfans.com.br
SUMMARY:Fernandinho
DESCRIPTION:Tour Único – Brasil \nFernandinho tem sido uma referência para muitos cristãos há mais de duas décadas. Através do louvor\, tem tocado corações e mudado destinos. \nPrepare-se para ser parte de uma noite inesquecível\, na qual cantaremos juntos novas canções e tantas outras que marcaram diversas gerações. \nConvidamos você a se preparar para uma noite de ministração que vai muito além da música gospel. A “Tour Único – Brasil” de Fernandinho é mais do que um evento musical – é um marco na vida daqueles que estão dispostos a alcançar mais de Deus.
URL:https://funfans.com.br/index.php/evento/fernandinho/
LOCATION:Qualistage\, Av. Ayrton Senna\, 3000\, Rio de Janeiro\, Rio de Janeiro\, 22775-003\, Brasil
ATTACH;FMTTYPE=image/png:https://funfans.com.br/wp-content/uploads/2024/07/fernandinho.png
END:VEVENT
END:VCALENDAR