BEGIN:VCALENDAR
VERSION:2.0
PRODID:-//Funfans - ECPv6.15.11//NONSGML v1.0//EN
CALSCALE:GREGORIAN
METHOD:PUBLISH
X-ORIGINAL-URL:https://funfans.com.br
X-WR-CALDESC:Eventos para Funfans
REFRESH-INTERVAL;VALUE=DURATION:PT1H
X-Robots-Tag:noindex
X-PUBLISHED-TTL:PT1H
BEGIN:VTIMEZONE
TZID:America/Sao_Paulo
BEGIN:STANDARD
TZOFFSETFROM:-0300
TZOFFSETTO:-0300
TZNAME:-03
DTSTART:20230101T000000
END:STANDARD
END:VTIMEZONE
BEGIN:VEVENT
DTSTART;TZID=America/Sao_Paulo:20241004T213000
DTEND;TZID=America/Sao_Paulo:20241004T233000
DTSTAMP:20260422T131352
CREATED:20240726T194215Z
LAST-MODIFIED:20240726T194215Z
UID:1505-1728077400-1728084600@funfans.com.br
SUMMARY:Sidney Magal apresenta "Baile do Magal"
DESCRIPTION:Uma celebração musical no Qualistage. O artista promete reviver grandes hits em um show repleto de nostalgia e energia\, trazendo de volta a atmosfera única dos bailes de outrora. Em 04 de outubro de 2024\, prepare-se para uma noite especial repleta de memórias e grandes canções do rádio. Sidney Magal\, conhecido por sua versatilidade e estilo atemporal\, apresentará um espetáculo inédito no Qualistage\, celebrando sua carreira e homenageando artistas que marcaram época nas paradas de sucesso.  \nCom um repertório vibrante e dançante\, Magal promete transportar o público através das gerações\, de volta à época em que os bailes eram o ápice da diversão e socialização. “Quero trazer de volta aquele sentimento único dos bailes\, onde as pessoas se reuniam para dançar\, se divertir e criar memórias inesquecíveis”\, declara o cantor.  \nA playlist está repleta de ritmos contagiantes\, incluindo o embalo da lambada\, o calor da Jovem Guarda e a alegria do samba rock. Magal se apresenta no Qualistage após shows arrebatadores com a Turnê Bailamos e Radio do Magal\, ambos com sucesso retumbante de bilheteria. Não perca a chance de participar deste evento musical inesquecível e reviver os tempos áureos dos bailes brasileiros. 
URL:https://funfans.com.br/index.php/evento/sidney-magal-apresenta-baile-do-magal/
LOCATION:Qualistage\, Av. Ayrton Senna\, 3000\, Rio de Janeiro\, Rio de Janeiro\, 22775-003\, Brasil
ATTACH;FMTTYPE=image/png:https://funfans.com.br/wp-content/uploads/2024/07/magal.png
END:VEVENT
END:VCALENDAR