BEGIN:VCALENDAR
VERSION:2.0
PRODID:-//Funfans - ECPv6.15.11//NONSGML v1.0//EN
CALSCALE:GREGORIAN
METHOD:PUBLISH
X-ORIGINAL-URL:https://funfans.com.br
X-WR-CALDESC:Eventos para Funfans
REFRESH-INTERVAL;VALUE=DURATION:PT1H
X-Robots-Tag:noindex
X-PUBLISHED-TTL:PT1H
BEGIN:VTIMEZONE
TZID:America/Sao_Paulo
BEGIN:STANDARD
TZOFFSETFROM:-0300
TZOFFSETTO:-0300
TZNAME:-03
DTSTART:20230101T000000
END:STANDARD
END:VTIMEZONE
BEGIN:VEVENT
DTSTART;VALUE=DATE:20240922
DTEND;VALUE=DATE:20240923
DTSTAMP:20260422T131356
CREATED:20240726T221643Z
LAST-MODIFIED:20240726T221643Z
UID:1564-1726963200-1727049599@funfans.com.br
SUMMARY:Rock in Rio - SHAWN MENDES
DESCRIPTION:https://rockinrio.com/rio/pt-br/ingressos/ \n\nPALCO MUNDO\n\n\n\nSHAWN MENDES\n\n\n\n\nAKON\n\n\n\n\nNE-YO\n\n\n\n\nLUÍSA SONZA\n\n\n\nPALCO SUNSET\n\n\n\nMARIAH CAREY\n\n\n\n\nNEY MATOGROSSO\n\n\n\n\nOLODUMBAIANA\n\n\n\n\nHOMENAGEM A ALCIONE COM OSB\, DIOGO NOGUEIRA\, MART’NÁLIA\, MAJUR\, PERICLES\, MARIA RITA E ALCIONE\n\n\n\nNEW DANCE ORDER\n\n\n\nKASKADE\n\n\n\n\nBHASKAR\n\n\n\n\nJETLAG\n\n\n\n\nDUBDOGZ\n\n\n\nESPAÇO FAVELA\n\n\n\nBELO\n\n\n\n\nLIVINHO\n\n\n\n\nLUIZ OTÁVIO\n\n\n\nGLOBAL VILLAGE\n\n\n\nANGÉLIQUE KIDJO\n\n\n\n\nALMÉRIO E MARTINS\n\n\n\n\nLIA DE ITAMARACÁ
URL:https://funfans.com.br/index.php/evento/rock-in-rio-shawn-mendes/
LOCATION:Cidade do Rock\, Av. Embaixador Abelardo Bueno\, 3401 - Barra da Tijuca\, Rio de Janeiro\, Rio de Janeiro\, 22775-040\, Brasil
ATTACH;FMTTYPE=image/jpeg:https://funfans.com.br/wp-content/uploads/2024/07/170984288065ea21c05bbd1_1709842880_3x2_rt1.jpg
END:VEVENT
END:VCALENDAR