BEGIN:VCALENDAR
VERSION:2.0
PRODID:-//Funfans - ECPv6.15.11//NONSGML v1.0//EN
CALSCALE:GREGORIAN
METHOD:PUBLISH
X-WR-CALNAME:Funfans
X-ORIGINAL-URL:https://funfans.com.br
X-WR-CALDESC:Eventos para Funfans
REFRESH-INTERVAL;VALUE=DURATION:PT1H
X-Robots-Tag:noindex
X-PUBLISHED-TTL:PT1H
BEGIN:VTIMEZONE
TZID:America/Sao_Paulo
BEGIN:STANDARD
TZOFFSETFROM:-0300
TZOFFSETTO:-0300
TZNAME:-03
DTSTART:20230101T000000
END:STANDARD
END:VTIMEZONE
BEGIN:VEVENT
DTSTART;VALUE=DATE:20240915
DTEND;VALUE=DATE:20240916
DTSTAMP:20260422T131723
CREATED:20240726T220612Z
LAST-MODIFIED:20240726T220648Z
UID:1552-1726358400-1726444799@funfans.com.br
SUMMARY:Rock in Rio - AVENGED SEVENFOLD
DESCRIPTION:https://rockinrio.com/rio/pt-br/ingressos/\n \nPALCO MUNDO\n\n\n\nAVENGED SEVENFOLD\n\n\n\n\nEVANESCENCE\n\n\n\n\nJOURNEY\n\n\n\n\nOS PARALAMAS DO SUCESSO\n\n\n\nPALCO SUNSET\n\n\n\nDEEP PURPLE\n\n\n\n\nINCUBUS\n\n\n\n\nPLANET HEMP CONVIDA PITTY\n\n\n\n\nBARÃO VERMELHO\n\n\n\nNEW DANCE ORDER\n\n\n\nARTBAT\n\n\n\n\nMILA JOURNÉE\n\n\n\n\nBINARYH\n\n\n\n\nЯUBACK\n\n\n\nESPAÇO FAVELA\n\n\n\nMC POZE DO RODO\n\n\n\n\nMC HARIEL\n\n\n\n\nSTER\n\n\n\nGLOBAL VILLAGE\n\n\n\nANEES\n\n\n\n\nTERRA CELTA \n\n\n\n\nLARISSA LUZ
URL:https://funfans.com.br/index.php/evento/rock-in-rio-avenged-sevenfold/
LOCATION:Cidade do Rock\, Av. Embaixador Abelardo Bueno\, 3401 - Barra da Tijuca\, Rio de Janeiro\, Rio de Janeiro\, 22775-040\, Brasil
ATTACH;FMTTYPE=image/jpeg:https://funfans.com.br/wp-content/uploads/2024/07/Avenged20Sevenfold2.jpg1_.jpg
END:VEVENT
END:VCALENDAR