BEGIN:VCALENDAR
VERSION:2.0
PRODID:-//Funfans - ECPv6.15.11//NONSGML v1.0//EN
CALSCALE:GREGORIAN
METHOD:PUBLISH
X-ORIGINAL-URL:https://funfans.com.br
X-WR-CALDESC:Eventos para Funfans
REFRESH-INTERVAL;VALUE=DURATION:PT1H
X-Robots-Tag:noindex
X-PUBLISHED-TTL:PT1H
BEGIN:VTIMEZONE
TZID:America/Sao_Paulo
BEGIN:STANDARD
TZOFFSETFROM:-0300
TZOFFSETTO:-0300
TZNAME:-03
DTSTART:20230101T000000
END:STANDARD
END:VTIMEZONE
BEGIN:VEVENT
DTSTART;TZID=America/Sao_Paulo:20240824T203000
DTEND;TZID=America/Sao_Paulo:20240824T223000
DTSTAMP:20260422T144633
CREATED:20240726T194719Z
LAST-MODIFIED:20240726T194719Z
UID:1517-1724531400-1724538600@funfans.com.br
SUMMARY:Autralian Connection Festival
DESCRIPTION:Hoodoo Gurus\nGang Gajang\nRSPYS
URL:https://funfans.com.br/index.php/evento/autralian-connection-festival/
LOCATION:Qualistage\, Av. Ayrton Senna\, 3000\, Rio de Janeiro\, Rio de Janeiro\, 22775-003\, Brasil
ATTACH;FMTTYPE=image/png:https://funfans.com.br/wp-content/uploads/2024/07/hoodoo.png
END:VEVENT
END:VCALENDAR