BEGIN:VCALENDAR
VERSION:2.0
PRODID:-//Funfans - ECPv6.15.11//NONSGML v1.0//EN
CALSCALE:GREGORIAN
METHOD:PUBLISH
X-ORIGINAL-URL:https://funfans.com.br
X-WR-CALDESC:Eventos para Funfans
REFRESH-INTERVAL;VALUE=DURATION:PT1H
X-Robots-Tag:noindex
X-PUBLISHED-TTL:PT1H
BEGIN:VTIMEZONE
TZID:America/Sao_Paulo
BEGIN:STANDARD
TZOFFSETFROM:-0300
TZOFFSETTO:-0300
TZNAME:-03
DTSTART:20230101T000000
END:STANDARD
END:VTIMEZONE
BEGIN:VEVENT
DTSTART;TZID=America/Sao_Paulo:20240818T200000
DTEND;TZID=America/Sao_Paulo:20240818T220000
DTSTAMP:20260422T144622
CREATED:20240726T195456Z
LAST-MODIFIED:20240726T195456Z
UID:1523-1724011200-1724018400@funfans.com.br
SUMMARY:Angra
DESCRIPTION:Grande sucesso de público\, Angra traz ao Rio de Janeiro histórica turnê acústica \nAngra apresenta versões desplugadas de seus grandes sucessos; show acústico também passará por cidades como São Paulo\, Curitiba e Santiago de Chile\, entre outras datas. \nUma histórica apresentação acústica do Angra feita ano passado\, gravada para lançamento oficial\, motivou o início de uma grandiosa turnê especial\, com datas selecionadas. O Rio de Janeiro recebe o grupo com este show inédito no dia 18 de agosto\, no palco do Qualistage\, uma das maiores casas de espetáculos da América do Sul. Ingressos a venda pela plataforma Ticketmaster. \nO Angra sempre flertou com o formato acústico durante sua jornada. Para celebrar suas três décadas de sólida carreira\, o grupo\, pela primeira vez\, registrou uma apresentação na íntegra para ser lançada de maneira oficial. \nNeste formato\, a banda reestruturou as canções\, criando uma nova roupagem para importantes canções de sua história\, trazendo essa nova abordagem e reforçando a musicalidade do quinteto para o seu público e para o público em geral. \nEm mais de três décadas de estrada\, o Angra passou por diversos ciclos\, alguns dolorosos e outros\, como a fase atual\, de prosperidade. Formado em 1991\, o grupo logo alcançou o status de uma das maiores bandas de heavy metal do Brasil de alcance global. \nCom álbuns icônicos e extensas turnês pelas Américas\, Europa e Ásia\, a banda solidificou uma fiel base de fãs. O Angra vendeu mais de três milhões de discos em todo o mundo\, tem quase meio milhão de ouvintes no Spotify e mais de 50 milhões de visualizações no YouTube.
URL:https://funfans.com.br/index.php/evento/angra/
LOCATION:Qualistage\, Av. Ayrton Senna\, 3000\, Rio de Janeiro\, Rio de Janeiro\, 22775-003\, Brasil
ATTACH;FMTTYPE=image/png:https://funfans.com.br/wp-content/uploads/2024/07/angra.png
END:VEVENT
END:VCALENDAR