BEGIN:VCALENDAR
VERSION:2.0
PRODID:-//Funfans - ECPv6.15.11//NONSGML v1.0//EN
CALSCALE:GREGORIAN
METHOD:PUBLISH
X-ORIGINAL-URL:https://funfans.com.br
X-WR-CALDESC:Eventos para Funfans
REFRESH-INTERVAL;VALUE=DURATION:PT1H
X-Robots-Tag:noindex
X-PUBLISHED-TTL:PT1H
BEGIN:VTIMEZONE
TZID:America/Sao_Paulo
BEGIN:STANDARD
TZOFFSETFROM:-0300
TZOFFSETTO:-0300
TZNAME:-03
DTSTART:20230101T000000
END:STANDARD
END:VTIMEZONE
BEGIN:VEVENT
DTSTART;TZID=America/Sao_Paulo:20240816T220000
DTEND;TZID=America/Sao_Paulo:20240816T233000
DTSTAMP:20260422T144622
CREATED:20240726T195950Z
LAST-MODIFIED:20240726T195950Z
UID:1529-1723845600-1723851000@funfans.com.br
SUMMARY:Celebrare
DESCRIPTION:It’s a celebration! A máquina de fazer pessoas felizes comemora 30 anos trazendo mais uma vez todo o universo dançante às nossas cabeças e corações. Em sua festa de 30 anos\, a balzaquiana Banda Celebrare faz uma revisita às canções que foram mais marcantes durante toda a sua trajetória\, garantindo lembranças maravilhosas a todos os fãs\, dos mais antigos até os mais recentes\, não deixando ninguém com a sensação de estar de fora dessa grande festa! A tradição carioca das bandas de baile está atualizada\, viva e passa muito bem.\nIdealizada para ser o melhor conjunto de festas do Rio de Janeiro (podemos dizer que rolou\, né?) e com a autoconferida missão de levar alegria ao público\, a trajetória da Banda Celebrare começou com uma parceria entre os músicos Marco Manela (vocal)\, Sylvia de Galhardo (vocal)\, Fabio Mondego (vocal)\, Lucia Perez (vocal)\, Emerson Mardhine (baixo e vocal)\, Mario Grigorowski (sax e flauta)\, Claudio Gurgel (guitarra)\, Deborah Levy (teclados) e Eduardo Lissovsky (bateria)\,  sendo que o primeiro e o último tinham o projeto de montar uma banda cover com um repertório voltado principalmente para os anos 1970\, mas que não deixasse de fora canções atuais. Três décadas depois\, cinco dos integrantes originais seguem na banda: Marco\, Sylvia\, Emerson\, Claudio e Mario. Completam o line-up os cantores Ricardo Diniz e Sabrina Gouvêa\, o tecladista Dudu Ferreira e o baterista Xande Figueiredo.\nNo começo foram apenas festas fechadas\, mas logo a Banda Celebrare passou a se apresentar nas maiores casas de shows do Rio e do Brasil – como o QUALISTAGE no dia 16 de agosto\, às 22h\, em um aniversário conjunto de velhos amigos\, já que o principal palco da cidade também chega aos 30 anos –\, totalizando mais de 2\,5 milhões de pessoas dançando em seus shows por todo o país\, sem contar apresentações no exterior\, em lugares como Punta del Este\, no Uruguai\, e Dubai\, no famoso Hotel Atlantis. \nA saída rápida das festas para os shows abertos e estúdios permitiu à banda conseguir uma estabilidade\, sua marca nesses 30 anos.\n– Acho que isso distingue a Banda Celebrare de todas outras que surgiram no segmento – diz o cantor e fundador Marco Manela. – Se alguma banda cover existe há mais de 20 anos\, ela\, com certeza\, já terá tido mais de 40 pessoas em suas formações. Aqui\, por exemplo\, guitarrista\, baixista e saxofonista são os mesmos a vida toda. \nAo longo dos anos\, o Celebrare lançou também uma belíssima coleção de discos\, de “Dance sem parar”\, de 1996\, a “Celebrare 20 anos ao vivo” (2017)\, passando por “Hava Naguila”\, dedicado ao repertório judaico. Uma playlist com esses registros anima qualquer festa até de manhã – só pode ser superada pela própria banda ao vivo\, claro. Os registros audiovisuais (aquilo que antigamente se chamava DVD) também fazem parte da coleção: “It’s raining men”\, “Macho man”\, “YMCA”\, “Saideira”\, “Sonífera ilha”\, “Rock and roll all nite” e dezenas de outros clássicos já ganharam o tratamento elétrico celebrariano\, incendiando as pistas.\nA relação com a família QUALISTAGE vem de longe: em uma das primeiras apresentações do grupo\, os integrantes conheceram o empresário Ricardo Amaral\, proprietário do então Metropolitan\, que convidou a banda para abrir o show da lenda Barry White e\, mais tarde\, da cantora Des’ree. Se hoje a Banda Celebrare é a maior de Dance & Disco Music do Brasil\, a maior casa de shows do país tem sua parte nessa história.
URL:https://funfans.com.br/index.php/evento/celebrare/
LOCATION:Qualistage\, Av. Ayrton Senna\, 3000\, Rio de Janeiro\, Rio de Janeiro\, 22775-003\, Brasil
ATTACH;FMTTYPE=image/png:https://funfans.com.br/wp-content/uploads/2024/07/celebrare.png
END:VEVENT
END:VCALENDAR