BEGIN:VCALENDAR
VERSION:2.0
PRODID:-//Funfans - ECPv6.15.11//NONSGML v1.0//EN
CALSCALE:GREGORIAN
METHOD:PUBLISH
X-ORIGINAL-URL:https://funfans.com.br
X-WR-CALDESC:Eventos para Funfans
REFRESH-INTERVAL;VALUE=DURATION:PT1H
X-Robots-Tag:noindex
X-PUBLISHED-TTL:PT1H
BEGIN:VTIMEZONE
TZID:America/Sao_Paulo
BEGIN:STANDARD
TZOFFSETFROM:-0300
TZOFFSETTO:-0300
TZNAME:-03
DTSTART:20230101T000000
END:STANDARD
END:VTIMEZONE
BEGIN:VEVENT
DTSTART;TZID=America/Sao_Paulo:20240810T210000
DTEND;TZID=America/Sao_Paulo:20240810T210000
DTSTAMP:20260422T144633
CREATED:20240726T183410Z
LAST-MODIFIED:20240726T183649Z
UID:1471-1723323600-1723323600@funfans.com.br
SUMMARY:Oswaldo Montenegro
DESCRIPTION:Comemorando 50 anos de vida artística\, Oswaldo Montenegro apresenta sua nova turnê no Rio de Janeiro\, dia 10 de agosto (sábado)\, às 21h30\, no Qualistage. \nNeste emocionante e variado espetáculo\, o público acompanha a trajetória de Montenegro\, que durante todo o show\, interage com imagens de sua vida e carreira projetadas num imenso telão. Além disso\, é possível assistir ao Menestrel tocando simultaneamente mais de um instrumento\, já que no palco\, ao vivo\, ele se reveza entre os violões de 6 e de 12 cordas e nas imagens aparece ao piano. \nDessa vez\, sucessos como “Bandolins”\, “A Lista”\, “Lua e Flor”\, “Intuição” e a recém-lançada “Lembrei de Nós”\, estarão misturados às histórias e cenas virtuais\, que revelarão as origens das canções\, expondo segredos das inspirações e aventuras do artista. \nO show conta ainda com a presença da eterna parceira de andanças\, Madalena Salles\, a flautista-irmã do Menestrel\, a quem o imenso público que o segue passou a amar como alguém que fosse da própria família. \nOutro músico brilhante\, o multi-instrumentista Alexandre Meu Rei\, também comparece à festa. A atração especial compete ao multi-instrumentista Milton Guedes\, artista que começou com Oswaldo e volta a tocar com o mestre. \nOswaldo Montenegro partiu para a estrada aos dezessete anos\, onde fixou residência. Em suas constantes viagens\, jamais parou de criar. Tornou-se um trovador contemporâneo que parece viver dentro da arte\, num turbilhão de projetos de tirar o fôlego de quem o acompanha. Nessa comemoração dos cinquenta anos de estrada sem recuar um milímetro na feitura de sua arte\, está a merecida consagração deste artista que marcou a cultura brasileira\, traçando uma trajetória original\, única e longeva\, entrando definitivamente na alma de várias gerações.
URL:https://funfans.com.br/index.php/evento/oswaldo-montenegro/
LOCATION:Qualistage\, Av. Ayrton Senna\, 3000\, Rio de Janeiro\, Rio de Janeiro\, 22775-003\, Brasil
ATTACH;FMTTYPE=image/png:https://funfans.com.br/wp-content/uploads/2024/07/oswaldo.png
END:VEVENT
END:VCALENDAR